BEGIN:VCALENDAR
VERSION:2.0
PRODID:-//Bio-T-Full - ECPv6.3.3.1//NONSGML v1.0//EN
CALSCALE:GREGORIAN
METHOD:PUBLISH
X-ORIGINAL-URL:https://bio-t-full.org
X-WR-CALDESC:évènements pour Bio-T-Full
REFRESH-INTERVAL;VALUE=DURATION:PT1H
X-Robots-Tag:noindex
X-PUBLISHED-TTL:PT1H
BEGIN:VTIMEZONE
TZID:Europe/Paris
BEGIN:DAYLIGHT
TZOFFSETFROM:+0100
TZOFFSETTO:+0200
TZNAME:CEST
DTSTART:20200329T010000
END:DAYLIGHT
BEGIN:STANDARD
TZOFFSETFROM:+0200
TZOFFSETTO:+0100
TZNAME:CET
DTSTART:20201025T010000
END:STANDARD
END:VTIMEZONE
BEGIN:VEVENT
DTSTART;TZID=Europe/Paris:20200805T180000
DTEND;TZID=Europe/Paris:20200805T200000
DTSTAMP:20260421T184742
CREATED:20200721T145320Z
LAST-MODIFIED:20200723T101815Z
UID:4491-1596650400-1596657600@bio-t-full.org
SUMMARY:Atelier citoyen : cosmétique
DESCRIPTION:Bio-T-Full vous invite à un atelier citoyen : 💄fabrication de cosmétique naturel 💄 \nRéalisation de macérât de plantes fraiches bio\, DIY… \nTout le programme en détail vous sera communiqué dans les jours à venir ! \nRendez-vous au Solilab mercredi 5 aout de 18h à 20h. \nPrix Libre \nPrix conseillé 10€ \n 
URL:https://bio-t-full.org/evenements/atelier-citoyen-cosmetique/
LOCATION:Solilab\, 8 Rue St Domingue\, Nantes\, 44200\, France
CATEGORIES:Tous les événements
END:VEVENT
BEGIN:VEVENT
DTSTART;TZID=Europe/Paris:20200805T150000
DTEND;TZID=Europe/Paris:20200805T183000
DTSTAMP:20260421T184742
CREATED:20200721T140411Z
LAST-MODIFIED:20200721T153511Z
UID:4464-1596639600-1596652200@bio-t-full.org
SUMMARY:Vente de plantes
DESCRIPTION:Cet été\, Bio-T-Full organise tous les mercredis de 15h à 18h30 au Solilab dans le PépiLab une vente de plants à prix libre. \n  \n> Aromatiques\, médicinales ou potagères : Basilics (citron\, thaï\, thym\, pourpre…)\, Tomates (Green zebra\, indigo\, orange Bourgoin)\, Physalis\, Souci et bien d’autres variétés paysannes et reproductibles… 🌼 🌱🍅 \n  \n> Retrouvez  ici\, le catalogue des plants disponibles \n  \nATTENTION : Pas de CB sur place\, pensez à votre monnaie ou chéquier ! Port du masque recommandé et vigilance au respect des distanciations physiques. \n  \nC’EST QUOI LE PEPILAB ?  \nC’est une pépinière urbaine participative et expérimentale\, ce LAB 100% terroir nantais est le fruit d’une collaboration entre une vingtaine de bénévoles\, passionnés et professionnels impliqués au sein de l’association\, avec pour ambitions d’apprendre\, de transmettre mais surtout de semer des graines\, les voir germer\, croître et se multiplier pour végétaliser la ville\, les jardins\, les écoles\, les balcons\, les toits d’immeuble\, et partout ou les plantes peuvent encore pousser et s’essaimer en ville !!! 🌱 \n  \nD’OÙ VIENNENT LES PLANTES DISPONIBLES ?  \nLes plantes mises en vente sont cultivées au PépiLab\, elles sont 100% naturelles\, issues de graines reproductibles paysannes biologiques. Des plantes aromatiques\, comestibles\, potagères idéales pour vos intérieurs\, jardinières\, balcons\, terrasses\, et jardins ! \n  \nRetrouvez toutes les infos pour cet événement sur notre page Facebook : https://www.facebook.com/events/603777667204647/?event_time_id=603777687204645
URL:https://bio-t-full.org/evenements/ventes-de-plantes/
LOCATION:Solilab\, 8 Rue St Domingue\, Nantes\, 44200\, France
CATEGORIES:Tous les événements,Vente de plantes
END:VEVENT
BEGIN:VEVENT
DTSTART;TZID=Europe/Paris:20200731T180000
DTEND;TZID=Europe/Paris:20200731T210000
DTSTAMP:20260421T184742
CREATED:20200729T143547Z
LAST-MODIFIED:20200729T144449Z
UID:4747-1596218400-1596229200@bio-t-full.org
SUMMARY:Vente Le Bon Plant au 44 Tours le 31 juillet
DESCRIPTION:Le bar 44 Tours\, sur île de Nantes part en grandes vacances du 1er au 24 aout inclus. A cette occasion\, ils invitent Bio-T-Full pour une vente de plants à PRIX LIBRE de 18h à 21h.\n\nBasilics (citron\, thai)\, Tomates (green zebra\, indigo\, orange Bourgoin)\, capucines\, souci et bien d’autres… 🌼🌱🍅 \n\n>> Le 44 Tours c’est le bar & vinyl shop spécialisé en musique électronique de Nantes. \n\n+ HAPPY EXTENDED HOURS de 18h à 00h ! \nQUELLES SONT LES PLANTES DISPONIBLES ?\nLes plantes mises en vente sont cultivées au PépiLab\, elles sont 100% naturelles\, issues de graines reproductibles paysannes biologiques.\nDes plantes aromatiques\, comestibles\, potagères idéales pour vos intérieurs\, jardinières\, balcons\, terrasses\, et jardins ! \nGRATUIT
URL:https://bio-t-full.org/evenements/vente-bon-plant-au-44-tours/
LOCATION:44 TOURS\, 4 Boulevard de la Prairie au Duc\, NANTES\, 44200\, France
CATEGORIES:Tous les événements,Vente de plantes
END:VEVENT
BEGIN:VEVENT
DTSTART;TZID=Europe/Paris:20200729T180000
DTEND;TZID=Europe/Paris:20200729T200000
DTSTAMP:20260421T184742
CREATED:20200721T134119Z
LAST-MODIFIED:20200721T153527Z
UID:4451-1596045600-1596052800@bio-t-full.org
SUMMARY:Animation enfant : découverte des p'tites bêtes
DESCRIPTION:Bio-T-Full invite tous les enfants à une animation « découverte des petites bêtes » mercredi 29 juillet de 18h à 20h au Solilab. 🌞🐌 🐞 \nCet atelier citoyen est ouvert à tous les enfants de 4 à 10 ans. \nL’événement est à prix libre et sur inscription sur Helloasso\, C’EST PAR ICI 👉\nhttps://www.helloasso.com/associations/bio-t-full/evenements/ateliers-citoyens-jardi-compostiere-et-chasses-aux-p-tites-betes \nOn vous attend nombreux ! \nPrix libre\nPrix conseillé** 10€ \n 
URL:https://bio-t-full.org/evenements/animation-enfant-decouverte-des-ptites-betes/
LOCATION:Solilab\, 8 Rue St Domingue\, Nantes\, 44200\, France
CATEGORIES:Tous les événements
END:VEVENT
BEGIN:VEVENT
DTSTART;TZID=Europe/Paris:20200729T180000
DTEND;TZID=Europe/Paris:20200729T200000
DTSTAMP:20260421T184742
CREATED:20200721T132220Z
LAST-MODIFIED:20200724T074642Z
UID:4445-1596045600-1596052800@bio-t-full.org
SUMMARY:Atelier Citoyen : Création d'une jardi-compostière
DESCRIPTION:Bio-T-Full vous convie à son Atelier Citoyen « création d’une jardi-compostière » au Solilab\, mercredi 29 juillet de 18h à 20h.🌞\n\n\n\nL’événement est ouvert à tous\, gratuit et sur inscription sur Helloasso\, c’est par ici👉: https://www.facebook.com/events/284083366186775/ 🌼🌱🍅 \n\n\n\nUne jardi-compostière c’est quoi ? \nIdéale pour les cultures de type hors-sol pour jardinier en ville sur un balcon\, ou une terrasse\, la jardi-compostière permet d’associer l’intérêt du lombricompstage tout en offrant à la plante les réserves d’eau dont elle a besoin pour croître. Inspirée de la technique du « wicking bed »\, cette jardinière offre aux plantes un développement racinaire optimal et un accès permanent aux nutriments grâce à l’action naturelle de recyclage par les vers de compost. \n \nVenez apprendre à en fabriquer une avec Anthony et Aure\, mercredi 29 juillet de 18h à 20h au Solilab. \nPrix libre\nPrix conseillé** 10€
URL:https://bio-t-full.org/evenements/creation-dune-jardi-compostiere/
LOCATION:Solilab\, 8 Rue St Domingue\, Nantes\, 44200\, France
CATEGORIES:Tous les événements
END:VEVENT
BEGIN:VEVENT
DTSTART;TZID=Europe/Paris:20200729T150000
DTEND;TZID=Europe/Paris:20200729T183000
DTSTAMP:20260421T184742
CREATED:20200721T140154Z
LAST-MODIFIED:20200721T153541Z
UID:4462-1596034800-1596047400@bio-t-full.org
SUMMARY:Vente de plantes
DESCRIPTION:Cet été\, Bio-T-Full organise tous les mercredis de 15h à 18h30 au Solilab dans le PépiLab une vente de plants à prix libre. \n  \n> Aromatiques\, médicinales ou potagères : Basilics (citron\, thaï\, thym\, pourpre…)\, Tomates (Green zebra\, indigo\, orange Bourgoin)\, Physalis\, Souci et bien d’autres variétés paysannes et reproductibles… 🌼 🌱🍅 \n  \n> Retrouvez  ici\, le catalogue des plants disponibles \n  \nATTENTION :Pas de CB sur place\, pensez à votre monnaie ou chéquier ! Port du masque recommandé et vigilance au respect des distanciations physiques. \n  \nC’EST QUOI LE PEPILAB ?  \nC’est une pépinière urbaine participative et expérimentale\, ce LAB 100% terroir nantais est le fruit d’une collaboration entre une vingtaine de bénévoles\, passionnés et professionnels impliqués au sein de l’association\, avec pour ambitions d’apprendre\, de transmettre mais surtout de semer des graines\, les voir germer\, croître et se multiplier pour végétaliser la ville\, les jardins\, les écoles\, les balcons\, les toits d’immeuble\, et partout ou les plantes peuvent encore pousser et s’essaimer en ville !!! 🌱 \n  \nD’OÙ VIENNENT LES PLANTES DISPONIBLES ?  \nLes plantes mises en vente sont cultivées au PépiLab\, elles sont 100% naturelles\, issues de graines reproductibles paysannes biologiques. Des plantes aromatiques\, comestibles\, potagères idéales pour vos intérieurs\, jardinières\, balcons\, terrasses\, et jardins ! \n  \nRetrouvez toutes les infos pour cet événement sur notre page Facebook : https://www.facebook.com/events/603777667204647/?event_time_id=603777700537977
URL:https://bio-t-full.org/evenements/vente-de-plantes-2/
LOCATION:Solilab\, 8 Rue St Domingue\, Nantes\, 44200\, France
CATEGORIES:Tous les événements,Vente de plantes
END:VEVENT
END:VCALENDAR