BEGIN:VCALENDAR
VERSION:2.0
PRODID:-//Bio-T-Full - ECPv6.3.3.1//NONSGML v1.0//EN
CALSCALE:GREGORIAN
METHOD:PUBLISH
X-ORIGINAL-URL:https://bio-t-full.org
X-WR-CALDESC:évènements pour Bio-T-Full
REFRESH-INTERVAL;VALUE=DURATION:PT1H
X-Robots-Tag:noindex
X-PUBLISHED-TTL:PT1H
BEGIN:VTIMEZONE
TZID:Europe/Paris
BEGIN:DAYLIGHT
TZOFFSETFROM:+0100
TZOFFSETTO:+0200
TZNAME:CEST
DTSTART:20250330T010000
END:DAYLIGHT
BEGIN:STANDARD
TZOFFSETFROM:+0200
TZOFFSETTO:+0100
TZNAME:CET
DTSTART:20251026T010000
END:STANDARD
END:VTIMEZONE
BEGIN:VEVENT
DTSTART;TZID=Europe/Paris:20250201T093000
DTEND;TZID=Europe/Paris:20250201T160000
DTSTAMP:20260420T200047
CREATED:20241220T001901Z
LAST-MODIFIED:20241220T001901Z
UID:9692-1738402200-1738425600@bio-t-full.org
SUMMARY:Journée découverte et initiation à l'agriculture urbaine
DESCRIPTION:OBJECTIFS PEDAGOGIQUES : \n\nExplorer les différentes techniques d’agriculture urbaine et en discerner les atouts / faiblesses\, selon le contexte de votre projet\, de votre environnement d’habitation et/ou de vos objectifs. \nComprendre les principales composantes d’une culture réussie en agriculture urbaine « domestique »\, et minimiser les erreurs inhérentes aux débutants / initiés.\nS’exercer de manière concrète grâce à l’atelier pratique proposé en fin de journée\, en repartant avec votre propre système et vos plantes à installer chez vous.\n\n\n\n\n\n\n\n\n\n\n\n\n\nAU PROGRAMME : \n\n9h30 – Accueil café / thé + recueil des attentes de chacun.e\n9h45 – Visite de notre micro-pépinière expérimentale : « Le PépiLAB » (située au cœur du Solilab\, sur l’île de Nantes)\n10h15 – Présentation des 4 systèmes d’aquaponie et bioponie installés sur place.\n11h – Analyse comparative des différentes techniques d’agriculture urbaine (pleine terre / hors-sol)\n12h30 – PAUSE DEJEUNER *\n13h30 – Focus sur les techniques Wicking bed (sol vivant) et Kratky (substrat bioponie / hydroponie)\n15h – Atelier pratique : Technique du « Window farm » ou « Micro-jardinière » autonome (réalisée le jour J = vous repartez avec votre système clé en main : plantes et support matériel inclus).\n16h – Bilan de la journée – (fin approximative : 16h15)\n\n\nINFOS PRATIQUES  : \n\nLieu : Le Solilab\, 8 rue Saint Domingue\, 44200 Nantes\nParticipation : 85 €\nImpact social : tous les bénéfices générés par cette journée d’initiation / découverte soutiennent la création et l’animation de jardins à visées thérapeutique\nConditions d’annulation : en cas de nombre d’inscriptions insuffisantes\, l’association se réserve le droit de reprogrammer cette journée d’initiation.\n\n*Détails et inscription en cliquant ici !
URL:https://bio-t-full.org/evenements/journee-decouverte-et-initiation-a-lagriculture-urbaine-2/
LOCATION:Le Solilab – Salle 93\, 8 rue Saint Domingue\, Nantes\, 44200
CATEGORIES:Initiation / formation WeCanDoo
ATTACH;FMTTYPE=image/jpeg:https://bio-t-full.org/wp-content/uploads/2024/12/aquap_min_pepilab-bandeau-min.jpeg
END:VEVENT
END:VCALENDAR