BEGIN:VCALENDAR
VERSION:2.0
PRODID:-//Bio-T-Full - ECPv6.3.3.1//NONSGML v1.0//EN
CALSCALE:GREGORIAN
METHOD:PUBLISH
X-WR-CALNAME:Bio-T-Full
X-ORIGINAL-URL:https://bio-t-full.org
X-WR-CALDESC:évènements pour Bio-T-Full
REFRESH-INTERVAL;VALUE=DURATION:PT1H
X-Robots-Tag:noindex
X-PUBLISHED-TTL:PT1H
BEGIN:VTIMEZONE
TZID:Europe/Paris
BEGIN:DAYLIGHT
TZOFFSETFROM:+0100
TZOFFSETTO:+0200
TZNAME:CEST
DTSTART:20230326T010000
END:DAYLIGHT
BEGIN:STANDARD
TZOFFSETFROM:+0200
TZOFFSETTO:+0100
TZNAME:CET
DTSTART:20231029T010000
END:STANDARD
END:VTIMEZONE
BEGIN:VEVENT
DTSTART;TZID=Europe/Paris:20231021T100000
DTEND;TZID=Europe/Paris:20231021T170000
DTSTAMP:20260422T034818
CREATED:20230912T130922Z
LAST-MODIFIED:20230912T130922Z
UID:7083-1697882400-1697907600@bio-t-full.org
SUMMARY:Préparation de l'hiver\, quelles sont les tâches des jardiniers pendant cette saison ?
DESCRIPTION:Préparation de l’hiver\, quelles sont les tâches des jardiniers pendant cette saison ?\n\n–> Focus sur la pratique du semis\, la récolte pré-hivernale et le stockage des graines.\n–> Et toujours l’Aquaponie !\n\nL’équipe Bio-T-Full vous accueille auprès de sa pépinière et de la terrasse végétalisé pour un chantier d’agriculture urbaine !\nLe tout accompagné d’un café ou thé \n\nInscription avec le lien ci-dessous\, deux créneaux :\n10h / 13h\n14h / 17h\nhttps://www.helloasso.com/associations/bio-t-full/evenements/chantier-participatif-du-21-octobre
URL:https://bio-t-full.org/evenements/preparation-de-lhiver-quelles-sont-les-taches-des-jardiniers-pendant-cette-saison/
LOCATION:Solilab\, 8 Rue St Domingue\, Nantes\, 44200\, France
CATEGORIES:Chantiers bénévoles
ATTACH;FMTTYPE=image/png:https://bio-t-full.org/wp-content/uploads/2023/09/21-octobre-1.png
END:VEVENT
END:VCALENDAR