BEGIN:VCALENDAR
VERSION:2.0
PRODID:-//Bio-T-Full - ECPv6.3.3.1//NONSGML v1.0//EN
CALSCALE:GREGORIAN
METHOD:PUBLISH
X-ORIGINAL-URL:https://bio-t-full.org
X-WR-CALDESC:évènements pour Bio-T-Full
REFRESH-INTERVAL;VALUE=DURATION:PT1H
X-Robots-Tag:noindex
X-PUBLISHED-TTL:PT1H
BEGIN:VTIMEZONE
TZID:Europe/Paris
BEGIN:DAYLIGHT
TZOFFSETFROM:+0100
TZOFFSETTO:+0200
TZNAME:CEST
DTSTART:20250330T010000
END:DAYLIGHT
BEGIN:STANDARD
TZOFFSETFROM:+0200
TZOFFSETTO:+0100
TZNAME:CET
DTSTART:20251026T010000
END:STANDARD
END:VTIMEZONE
BEGIN:VEVENT
DTSTART;TZID=Europe/Paris:20250425T143000
DTEND;TZID=Europe/Paris:20250425T170000
DTSTAMP:20260420T180256
CREATED:20250408T092424Z
LAST-MODIFIED:20250408T145634Z
UID:9709-1745591400-1745600400@bio-t-full.org
SUMMARY:Chantier participatif - Ouvert à tou.te.s
DESCRIPTION:Rejoins-nous au jardin ou à l’atelier ! \nQue tu sois déjà bénévole chez Bio-T-Full ou simplement curieux·se de nous rencontrer\, viens participer à nos chantiers bricolage et jardinage !Il y a toujours une activité pour chacun·e\, dans une ambiance conviviale et ouverte à tou·te·s. \nC’est l’occasion de : \n\n\npartager de bons moments\, \n\n\néchanger des astuces de jardinage ou de bricolage\, \n\n\napprendre ensemble en mettant les mains dans la terre (ou dans les outils !). \n\n\nTu es curieux·se\, amoureux·se de la nature\, citadin·e\, ou bricoleur·se du dimanche ?Viens semer ta petite graine pour faire pousser l’agriculture urbaine autour de toi ! \nRendez-vous au “Pépilab”\, côté terrasse du SolilabÉvénement en accès libre\, en partenariat avec l’association Benenova.
URL:https://bio-t-full.org/evenements/chantier-participatif-2/
LOCATION:Le Solilab – Salle 93\, 8 rue Saint Domingue\, Nantes\, 44200
CATEGORIES:Chantiers bénévoles,Tous les événements
ATTACH;FMTTYPE=image/jpeg:https://bio-t-full.org/wp-content/uploads/2024/10/chantier-participatif-bio-t-full.jpg
END:VEVENT
END:VCALENDAR