BEGIN:VCALENDAR
VERSION:2.0
PRODID:-//Bio-T-Full - ECPv6.3.3.1//NONSGML v1.0//EN
CALSCALE:GREGORIAN
METHOD:PUBLISH
X-ORIGINAL-URL:https://bio-t-full.org
X-WR-CALDESC:évènements pour Bio-T-Full
REFRESH-INTERVAL;VALUE=DURATION:PT1H
X-Robots-Tag:noindex
X-PUBLISHED-TTL:PT1H
BEGIN:VTIMEZONE
TZID:Europe/Paris
BEGIN:DAYLIGHT
TZOFFSETFROM:+0100
TZOFFSETTO:+0200
TZNAME:CEST
DTSTART:20230326T010000
END:DAYLIGHT
BEGIN:STANDARD
TZOFFSETFROM:+0200
TZOFFSETTO:+0100
TZNAME:CET
DTSTART:20231029T010000
END:STANDARD
END:VTIMEZONE
BEGIN:VEVENT
DTSTART;TZID=Europe/Paris:20230916T100000
DTEND;TZID=Europe/Paris:20230916T170000
DTSTAMP:20260422T032724
CREATED:20230905T183942Z
LAST-MODIFIED:20230905T184342Z
UID:7078-1694858400-1694883600@bio-t-full.org
SUMMARY:Aquaponie & Bouturage a l'eau de Saule (Chantier participatif 16 septembre)
DESCRIPTION:Pour ce samedi 16 septembre nous proposons deux ateliers 🙂 \nAttention cette journée est en accès place limitée\, l’inscription est gratuite mais obligatoire sur le lien Hello Asso sur le créneaux du matin (10h – 13h) ou après midi (14h-17h). \n– Envie de jouer aux apprentis sorcie.res ? Viens tester le bouturage à l’eau de saule ! Pense à amener un petit flacon pour repartir avec ta précieuse potion. \n– Envie d’Aquaponie ? Nous procéderons ensemble à l’introduction des poissons dans notre 3ème bassin\, la fabrication d’une nouvelle gravière avec syphon cloche\, préparation des colonnes et mise en eau du 2ème circuit ! \nL’équipe Bio-T-Full vous accueille auprès de sa pépinière et de la terrasse végétalisé pour un chantier d’agriculture urbaine !\nLe tout accompagné d’un café ou thé 🙂 \nINSCRIPTION ICI
URL:https://bio-t-full.org/evenements/aquaponie-bouturage-chantier-participatif-16-septembre/
LOCATION:Solilab\, 8 Rue St Domingue\, Nantes\, 44200\, France
CATEGORIES:Chantiers bénévoles,Tous les événements
ATTACH;FMTTYPE=image/png:https://bio-t-full.org/wp-content/uploads/2023/09/Good-chantier.png
END:VEVENT
END:VCALENDAR