BEGIN:VCALENDAR
VERSION:2.0
PRODID:-//Bio-T-Full - ECPv6.3.3.1//NONSGML v1.0//EN
CALSCALE:GREGORIAN
METHOD:PUBLISH
X-WR-CALNAME:Bio-T-Full
X-ORIGINAL-URL:http://bio-t-full.org
X-WR-CALDESC:évènements pour Bio-T-Full
REFRESH-INTERVAL;VALUE=DURATION:PT1H
X-Robots-Tag:noindex
X-PUBLISHED-TTL:PT1H
BEGIN:VTIMEZONE
TZID:Europe/Paris
BEGIN:DAYLIGHT
TZOFFSETFROM:+0100
TZOFFSETTO:+0200
TZNAME:CEST
DTSTART:20250330T010000
END:DAYLIGHT
BEGIN:STANDARD
TZOFFSETFROM:+0200
TZOFFSETTO:+0100
TZNAME:CET
DTSTART:20251026T010000
END:STANDARD
END:VTIMEZONE
BEGIN:VEVENT
DTSTART;TZID=Europe/Paris:20250523T143000
DTEND;TZID=Europe/Paris:20250523T170000
DTSTAMP:20260420T112430
CREATED:20250408T092801Z
LAST-MODIFIED:20250408T145718Z
UID:9712-1748010600-1748019600@bio-t-full.org
SUMMARY:Chantier participatif - Ouvert à tou.te.s
DESCRIPTION:JE M'INSCRIS !
URL:http://bio-t-full.org/evenements/chantier-participatif-3/
LOCATION:Le Solilab – Salle 93\, 8 rue Saint Domingue\, Nantes\, 44200
CATEGORIES:Chantiers bénévoles,Tous les événements
ATTACH;FMTTYPE=image/jpeg:http://bio-t-full.org/wp-content/uploads/2024/10/chantier-participatif-bio-t-full.jpg
END:VEVENT
END:VCALENDAR