BEGIN:VCALENDAR
VERSION:2.0
PRODID:-//Bio-T-Full - ECPv6.3.3.1//NONSGML v1.0//EN
CALSCALE:GREGORIAN
METHOD:PUBLISH
X-ORIGINAL-URL:http://bio-t-full.org
X-WR-CALDESC:évènements pour Bio-T-Full
REFRESH-INTERVAL;VALUE=DURATION:PT1H
X-Robots-Tag:noindex
X-PUBLISHED-TTL:PT1H
BEGIN:VTIMEZONE
TZID:Europe/Paris
BEGIN:DAYLIGHT
TZOFFSETFROM:+0100
TZOFFSETTO:+0200
TZNAME:CEST
DTSTART:20240331T010000
END:DAYLIGHT
BEGIN:STANDARD
TZOFFSETFROM:+0200
TZOFFSETTO:+0100
TZNAME:CET
DTSTART:20241027T010000
END:STANDARD
END:VTIMEZONE
BEGIN:VEVENT
DTSTART;TZID=Europe/Paris:20241108T160000
DTEND;TZID=Europe/Paris:20241108T180000
DTSTAMP:20260420T222206
CREATED:20241025T125509Z
LAST-MODIFIED:20241025T125509Z
UID:9528-1731081600-1731088800@bio-t-full.org
SUMMARY:Jardinons à Prairie d'Amont !
DESCRIPTION:JE M'INSCRIS !
URL:http://bio-t-full.org/evenements/jardinons-a-prairie-damont-27/
LOCATION:Cours de la Prairie d’Amont\, Cours de la Prairie d'Amont\, Nantes\, 44200\, France
CATEGORIES:Tous les événements
ATTACH;FMTTYPE=image/png:http://bio-t-full.org/wp-content/uploads/2024/03/FB-Evenement-Newsletter-9-1.png
END:VEVENT
BEGIN:VEVENT
DTSTART;TZID=Europe/Paris:20241113T150000
DTEND;TZID=Europe/Paris:20241113T170000
DTSTAMP:20260420T222206
CREATED:20241008T144342Z
LAST-MODIFIED:20241008T144343Z
UID:9512-1731510000-1731517200@bio-t-full.org
SUMMARY:Créons le potager de la médiathèque !
DESCRIPTION:JE M'INSCRIS !
URL:http://bio-t-full.org/evenements/creons-le-potager-de-la-mediatheque-15/
LOCATION:Médiathèque Luce Courville (Nantes Nord)\, 1 Rue Eugène Thomas\, 44300 Nantes\, Nantes\, 44000\, France
CATEGORIES:Tous les événements
ATTACH;FMTTYPE=image/png:http://bio-t-full.org/wp-content/uploads/2024/03/FB-Evenement-Newsletter-11-min.png
END:VEVENT
BEGIN:VEVENT
DTSTART;TZID=Europe/Paris:20241119T110000
DTEND;TZID=Europe/Paris:20241119T190000
DTSTAMP:20260420T222206
CREATED:20241119T120525Z
LAST-MODIFIED:20241119T120526Z
UID:9614-1732014000-1732042800@bio-t-full.org
SUMMARY:Les Voisinades
DESCRIPTION:JE M'INSCRIS !
URL:http://bio-t-full.org/evenements/les-voisinades/
LOCATION:salle de l’Egalité\, 6 boulevard Léon Jouhaux\, Nantes\, 44100\, France
ATTACH;FMTTYPE=image/jpeg:http://bio-t-full.org/wp-content/uploads/2024/11/les-voisinades-bio-t-full-min.jpg
END:VEVENT
BEGIN:VEVENT
DTSTART;TZID=Europe/Paris:20241122T140000
DTEND;TZID=Europe/Paris:20241122T170000
DTSTAMP:20260420T222206
CREATED:20241031T112754Z
LAST-MODIFIED:20241110T155139Z
UID:9537-1732284000-1732294800@bio-t-full.org
SUMMARY:Chantier participatif - Ouvert à tou.te.s
DESCRIPTION:JE M'INSCRIS !
URL:http://bio-t-full.org/evenements/chantier-participatif/
LOCATION:Solilab\, 8 Rue St Domingue\, Nantes\, 44200\, France
CATEGORIES:Chantiers bénévoles,Tous les événements
ATTACH;FMTTYPE=image/jpeg:http://bio-t-full.org/wp-content/uploads/2024/10/chantier-participatif-bio-t-full.jpg
END:VEVENT
BEGIN:VEVENT
DTSTART;TZID=Europe/Paris:20241122T160000
DTEND;TZID=Europe/Paris:20241122T180000
DTSTAMP:20260420T222206
CREATED:20241025T125825Z
LAST-MODIFIED:20241025T125825Z
UID:9530-1732291200-1732298400@bio-t-full.org
SUMMARY:Jardinons à Prairie d'Amont !
DESCRIPTION:JE M'INSCRIS !
URL:http://bio-t-full.org/evenements/jardinons-a-prairie-damont-28/
LOCATION:Cours de la Prairie d’Amont\, Cours de la Prairie d'Amont\, Nantes\, 44200\, France
CATEGORIES:Tous les événements
ATTACH;FMTTYPE=image/png:http://bio-t-full.org/wp-content/uploads/2024/03/FB-Evenement-Newsletter-9-1.png
END:VEVENT
END:VCALENDAR