BEGIN:VCALENDAR
VERSION:2.0
PRODID:-//Bio-T-Full - ECPv6.3.3.1//NONSGML v1.0//EN
CALSCALE:GREGORIAN
METHOD:PUBLISH
X-ORIGINAL-URL:http://bio-t-full.org
X-WR-CALDESC:évènements pour Bio-T-Full
REFRESH-INTERVAL;VALUE=DURATION:PT1H
X-Robots-Tag:noindex
X-PUBLISHED-TTL:PT1H
BEGIN:VTIMEZONE
TZID:Europe/Paris
BEGIN:DAYLIGHT
TZOFFSETFROM:+0100
TZOFFSETTO:+0200
TZNAME:CEST
DTSTART:20240331T010000
END:DAYLIGHT
BEGIN:STANDARD
TZOFFSETFROM:+0200
TZOFFSETTO:+0100
TZNAME:CET
DTSTART:20241027T010000
END:STANDARD
END:VTIMEZONE
BEGIN:VEVENT
DTSTART;TZID=Europe/Paris:20241005T093000
DTEND;TZID=Europe/Paris:20241005T180000
DTSTAMP:20260421T000534
CREATED:20240530T152649Z
LAST-MODIFIED:20240907T101413Z
UID:9367-1728120600-1728151200@bio-t-full.org
SUMMARY:INITIATION A L’AGRICULTURE URBAINE - 05 OCTOBRE
DESCRIPTION:JE M'INSCRIS !
URL:http://bio-t-full.org/evenements/initiation-a-lagriculture-urbaine-05-oct/
LOCATION:Solilab\, 8 Rue St Domingue\, Nantes\, 44200\, France
CATEGORIES:Tous les événements
ATTACH;FMTTYPE=image/png:http://bio-t-full.org/wp-content/uploads/2021/01/pepilab_pano_filtre-min.png
END:VEVENT
BEGIN:VEVENT
DTSTART;TZID=Europe/Paris:20241011T100000
DTEND;TZID=Europe/Paris:20241012T170000
DTSTAMP:20260421T000534
CREATED:20241008T150120Z
LAST-MODIFIED:20241008T150120Z
UID:9514-1728640800-1728752400@bio-t-full.org
SUMMARY:Salon Zen & Bio Nantes
DESCRIPTION:JE M'INSCRIS !
URL:http://bio-t-full.org/evenements/salon-zen-bio-nantes/
LOCATION:parc des expositions\, Parc des Expositions de la Beaujoire\, Nantes\, 44300
CATEGORIES:Tous les événements
ATTACH;FMTTYPE=image/jpeg:http://bio-t-full.org/wp-content/uploads/2024/10/zen-et-bio.jpg
END:VEVENT
BEGIN:VEVENT
DTSTART;TZID=Europe/Paris:20241011T163000
DTEND;TZID=Europe/Paris:20241011T190000
DTSTAMP:20260421T000534
CREATED:20241008T150835Z
LAST-MODIFIED:20241008T150836Z
UID:9518-1728664200-1728673200@bio-t-full.org
SUMMARY:Jardinons à Prairie d'Amont !
DESCRIPTION:JE M'INSCRIS !
URL:http://bio-t-full.org/evenements/jardinons-a-prairie-damont-23/
LOCATION:Cours de la Prairie d’Amont\, Cours de la Prairie d'Amont\, Nantes\, 44200\, France
CATEGORIES:Tous les événements
ATTACH;FMTTYPE=image/png:http://bio-t-full.org/wp-content/uploads/2024/03/FB-Evenement-Newsletter-9-1.png
END:VEVENT
BEGIN:VEVENT
DTSTART;TZID=Europe/Paris:20241011T163000
DTEND;TZID=Europe/Paris:20241011T190000
DTSTAMP:20260421T000534
CREATED:20241010T075734Z
LAST-MODIFIED:20241010T075734Z
UID:9520-1728664200-1728673200@bio-t-full.org
SUMMARY:Jardinons à Prairie d'Amont !
DESCRIPTION:JE M'INSCRIS !
URL:http://bio-t-full.org/evenements/jardinons-a-prairie-damont-24/
LOCATION:Cours de la Prairie d’Amont\, Cours de la Prairie d'Amont\, Nantes\, 44200\, France
CATEGORIES:Tous les événements
ATTACH;FMTTYPE=image/png:http://bio-t-full.org/wp-content/uploads/2024/03/FB-Evenement-Newsletter-9-1.png
END:VEVENT
BEGIN:VEVENT
DTSTART;TZID=Europe/Paris:20241016T150000
DTEND;TZID=Europe/Paris:20241016T170000
DTSTAMP:20260421T000534
CREATED:20241008T143755Z
LAST-MODIFIED:20241008T143755Z
UID:9507-1729090800-1729098000@bio-t-full.org
SUMMARY:Créons le potager de la médiathèque !
DESCRIPTION:JE M'INSCRIS !
URL:http://bio-t-full.org/evenements/creons-le-potager-de-la-mediatheque-13/
LOCATION:Médiathèque Luce Courville (Nantes Nord)\, 1 Rue Eugène Thomas\, 44300 Nantes\, Nantes\, 44000\, France
CATEGORIES:Tous les événements
ATTACH;FMTTYPE=image/png:http://bio-t-full.org/wp-content/uploads/2024/03/FB-Evenement-Newsletter-11-min.png
END:VEVENT
BEGIN:VEVENT
DTSTART;TZID=Europe/Paris:20241018T163000
DTEND;TZID=Europe/Paris:20241018T190000
DTSTAMP:20260421T000534
CREATED:20241010T080118Z
LAST-MODIFIED:20241010T080118Z
UID:9522-1729269000-1729278000@bio-t-full.org
SUMMARY:Jardinons à Prairie d'Amont !
DESCRIPTION:JE M'INSCRIS !
URL:http://bio-t-full.org/evenements/jardinons-a-prairie-damont-25/
LOCATION:Cours de la Prairie d’Amont\, Cours de la Prairie d'Amont\, Nantes\, 44200\, France
CATEGORIES:Tous les événements
ATTACH;FMTTYPE=image/png:http://bio-t-full.org/wp-content/uploads/2024/03/FB-Evenement-Newsletter-9-1.png
END:VEVENT
BEGIN:VEVENT
DTSTART;TZID=Europe/Paris:20241023T150000
DTEND;TZID=Europe/Paris:20241023T170000
DTSTAMP:20260421T000534
CREATED:20241008T144153Z
LAST-MODIFIED:20241008T144153Z
UID:9510-1729695600-1729702800@bio-t-full.org
SUMMARY:Créons le potager de la médiathèque !
DESCRIPTION:JE M'INSCRIS !
URL:http://bio-t-full.org/evenements/creons-le-potager-de-la-mediatheque-14/
LOCATION:Médiathèque Luce Courville (Nantes Nord)\, 1 Rue Eugène Thomas\, 44300 Nantes\, Nantes\, 44000\, France
CATEGORIES:Tous les événements
ATTACH;FMTTYPE=image/png:http://bio-t-full.org/wp-content/uploads/2024/03/FB-Evenement-Newsletter-11-min.png
END:VEVENT
BEGIN:VEVENT
DTSTART;TZID=Europe/Paris:20241025T163000
DTEND;TZID=Europe/Paris:20241025T190000
DTSTAMP:20260421T000534
CREATED:20241010T080413Z
LAST-MODIFIED:20241010T080413Z
UID:9524-1729873800-1729882800@bio-t-full.org
SUMMARY:Jardinons à Prairie d'Amont !
DESCRIPTION:JE M'INSCRIS !
URL:http://bio-t-full.org/evenements/jardinons-a-prairie-damont-26/
LOCATION:Cours de la Prairie d’Amont\, Cours de la Prairie d'Amont\, Nantes\, 44200\, France
CATEGORIES:Tous les événements
END:VEVENT
END:VCALENDAR