BEGIN:VCALENDAR
VERSION:2.0
PRODID:-//Bio-T-Full - ECPv6.3.3.1//NONSGML v1.0//EN
CALSCALE:GREGORIAN
METHOD:PUBLISH
X-WR-CALNAME:Bio-T-Full
X-ORIGINAL-URL:http://bio-t-full.org
X-WR-CALDESC:évènements pour Bio-T-Full
REFRESH-INTERVAL;VALUE=DURATION:PT1H
X-Robots-Tag:noindex
X-PUBLISHED-TTL:PT1H
BEGIN:VTIMEZONE
TZID:Europe/Paris
BEGIN:DAYLIGHT
TZOFFSETFROM:+0100
TZOFFSETTO:+0200
TZNAME:CEST
DTSTART:20240331T010000
END:DAYLIGHT
BEGIN:STANDARD
TZOFFSETFROM:+0200
TZOFFSETTO:+0100
TZNAME:CET
DTSTART:20241027T010000
END:STANDARD
END:VTIMEZONE
BEGIN:VEVENT
DTSTART;TZID=Europe/Paris:20240807T150000
DTEND;TZID=Europe/Paris:20240807T170000
DTSTAMP:20260421T054648
CREATED:20240703T184128Z
LAST-MODIFIED:20240703T184129Z
UID:9466-1723042800-1723050000@bio-t-full.org
SUMMARY:Créons le potager de la médiathèque !
DESCRIPTION:JE M'INSCRIS !
URL:http://bio-t-full.org/evenements/creons-le-potager-de-la-mediatheque-10/
LOCATION:Médiathèque Luce Courville (Nantes Nord)\, 1 Rue Eugène Thomas\, 44300 Nantes\, Nantes\, 44000\, France
CATEGORIES:Tous les événements
ATTACH;FMTTYPE=image/png:http://bio-t-full.org/wp-content/uploads/2024/03/FB-Evenement-Newsletter-11-min.png
END:VEVENT
BEGIN:VEVENT
DTSTART;TZID=Europe/Paris:20240808T180000
DTEND;TZID=Europe/Paris:20240808T234500
DTSTAMP:20260421T054648
CREATED:20240617T180255Z
LAST-MODIFIED:20240617T180255Z
UID:9412-1723140000-1723160700@bio-t-full.org
SUMMARY:Guinguette PEPIBAR Bio-T-Full
DESCRIPTION:JE M'INSCRIS !
URL:http://bio-t-full.org/evenements/guinguette-pepibar-bio-t-full-3/
LOCATION:Solilab\, 8 Rue St Domingue\, Nantes\, 44200\, France
CATEGORIES:Tous les événements
ATTACH;FMTTYPE=image/jpeg:http://bio-t-full.org/wp-content/uploads/2024/06/Post-Facebook.jpg
END:VEVENT
BEGIN:VEVENT
DTSTART;TZID=Europe/Paris:20240809T163000
DTEND;TZID=Europe/Paris:20240809T190000
DTSTAMP:20260421T054648
CREATED:20240703T182859Z
LAST-MODIFIED:20240703T182859Z
UID:9450-1723221000-1723230000@bio-t-full.org
SUMMARY:Jardinons à Prairie d'Amont !
DESCRIPTION:JE M'INSCRIS !
URL:http://bio-t-full.org/evenements/jardinons-a-prairie-damont-17/
LOCATION:Cours de la Prairie d’Amont\, Cours de la Prairie d'Amont\, Nantes\, 44200\, France
CATEGORIES:Tous les événements
ATTACH;FMTTYPE=image/png:http://bio-t-full.org/wp-content/uploads/2024/03/FB-Evenement-Newsletter-9.png
END:VEVENT
BEGIN:VEVENT
DTSTART;TZID=Europe/Paris:20240823T163000
DTEND;TZID=Europe/Paris:20240823T190000
DTSTAMP:20260421T054648
CREATED:20240703T182903Z
LAST-MODIFIED:20240703T182903Z
UID:9451-1724430600-1724439600@bio-t-full.org
SUMMARY:Jardinons à Prairie d'Amont !
DESCRIPTION:JE M'INSCRIS !
URL:http://bio-t-full.org/evenements/jardinons-a-prairie-damont-18/
LOCATION:Cours de la Prairie d’Amont\, Cours de la Prairie d'Amont\, Nantes\, 44200\, France
CATEGORIES:Tous les événements
ATTACH;FMTTYPE=image/png:http://bio-t-full.org/wp-content/uploads/2024/03/FB-Evenement-Newsletter-9.png
END:VEVENT
BEGIN:VEVENT
DTSTART;TZID=Europe/Paris:20240823T163000
DTEND;TZID=Europe/Paris:20240823T190000
DTSTAMP:20260421T054648
CREATED:20240703T182926Z
LAST-MODIFIED:20240703T182926Z
UID:9454-1724430600-1724439600@bio-t-full.org
SUMMARY:Jardinons à Prairie d'Amont !
DESCRIPTION:JE M'INSCRIS !
URL:http://bio-t-full.org/evenements/jardinons-a-prairie-damont-21/
LOCATION:Cours de la Prairie d’Amont\, Cours de la Prairie d'Amont\, Nantes\, 44200\, France
CATEGORIES:Tous les événements
ATTACH;FMTTYPE=image/png:http://bio-t-full.org/wp-content/uploads/2024/03/FB-Evenement-Newsletter-9.png
END:VEVENT
BEGIN:VEVENT
DTSTART;TZID=Europe/Paris:20240824T100000
DTEND;TZID=Europe/Paris:20240824T120000
DTSTAMP:20260421T054648
CREATED:20240703T182936Z
LAST-MODIFIED:20240703T182936Z
UID:9455-1724493600-1724500800@bio-t-full.org
SUMMARY:Jardinons à Prairie d'Amont !
DESCRIPTION:JE M'INSCRIS !
URL:http://bio-t-full.org/evenements/jardinons-a-prairie-damont-22/
LOCATION:Cours de la Prairie d’Amont\, Cours de la Prairie d'Amont\, Nantes\, 44200\, France
CATEGORIES:Tous les événements
ATTACH;FMTTYPE=image/png:http://bio-t-full.org/wp-content/uploads/2024/03/FB-Evenement-Newsletter-9.png
END:VEVENT
BEGIN:VEVENT
DTSTART;TZID=Europe/Paris:20240824T140000
DTEND;TZID=Europe/Paris:20240824T170000
DTSTAMP:20260421T054648
CREATED:20240819T125405Z
LAST-MODIFIED:20240819T130621Z
UID:9479-1724508000-1724518800@bio-t-full.org
SUMMARY:Atelier séchoir solaire
DESCRIPTION:JE M'INSCRIS !
URL:http://bio-t-full.org/evenements/atelier-sechoir-solaire/
LOCATION:Cours de la Prairie d’Amont\, Cours de la Prairie d'Amont\, Nantes\, 44200\, France
ATTACH;FMTTYPE=image/png:http://bio-t-full.org/wp-content/uploads/2024/08/atelier-sechoir.png
END:VEVENT
BEGIN:VEVENT
DTSTART;TZID=Europe/Paris:20240829T180000
DTEND;TZID=Europe/Paris:20240829T234500
DTSTAMP:20260421T054648
CREATED:20240617T180322Z
LAST-MODIFIED:20240617T180322Z
UID:9413-1724954400-1724975100@bio-t-full.org
SUMMARY:Guinguette PEPIBAR Bio-T-Full
DESCRIPTION:JE M'INSCRIS !
URL:http://bio-t-full.org/evenements/guinguette-pepibar-bio-t-full-4/
LOCATION:Solilab\, 8 Rue St Domingue\, Nantes\, 44200\, France
CATEGORIES:Tous les événements
ATTACH;FMTTYPE=image/jpeg:http://bio-t-full.org/wp-content/uploads/2024/06/Post-Facebook.jpg
END:VEVENT
BEGIN:VEVENT
DTSTART;TZID=Europe/Paris:20240830T163000
DTEND;TZID=Europe/Paris:20240830T190000
DTSTAMP:20260421T054648
CREATED:20240703T182913Z
LAST-MODIFIED:20240703T182913Z
UID:9452-1725035400-1725044400@bio-t-full.org
SUMMARY:Jardinons à Prairie d'Amont !
DESCRIPTION:JE M'INSCRIS !
URL:http://bio-t-full.org/evenements/jardinons-a-prairie-damont-19/
LOCATION:Cours de la Prairie d’Amont\, Cours de la Prairie d'Amont\, Nantes\, 44200\, France
CATEGORIES:Tous les événements
ATTACH;FMTTYPE=image/png:http://bio-t-full.org/wp-content/uploads/2024/03/FB-Evenement-Newsletter-9.png
END:VEVENT
END:VCALENDAR