BEGIN:VCALENDAR
VERSION:2.0
PRODID:-//Bio-T-Full - ECPv6.3.3.1//NONSGML v1.0//EN
CALSCALE:GREGORIAN
METHOD:PUBLISH
X-WR-CALNAME:Bio-T-Full
X-ORIGINAL-URL:http://bio-t-full.org
X-WR-CALDESC:évènements pour Bio-T-Full
REFRESH-INTERVAL;VALUE=DURATION:PT1H
X-Robots-Tag:noindex
X-PUBLISHED-TTL:PT1H
BEGIN:VTIMEZONE
TZID:Europe/Paris
BEGIN:DAYLIGHT
TZOFFSETFROM:+0100
TZOFFSETTO:+0200
TZNAME:CEST
DTSTART:20230326T010000
END:DAYLIGHT
BEGIN:STANDARD
TZOFFSETFROM:+0200
TZOFFSETTO:+0100
TZNAME:CET
DTSTART:20231029T010000
END:STANDARD
END:VTIMEZONE
BEGIN:VEVENT
DTSTART;TZID=Europe/Paris:20230801T160000
DTEND;TZID=Europe/Paris:20230801T190000
DTSTAMP:20260422T041014
CREATED:20230605T095125Z
LAST-MODIFIED:20230605T095223Z
UID:6934-1690905600-1690916400@bio-t-full.org
SUMMARY:MARCHE PAYSAN : STAND DE PLANTS
DESCRIPTION:JE M'INSCRIS !
URL:http://bio-t-full.org/evenements/marche-paysan-stand-de-plants-9/
LOCATION:Solilab\, 8 Rue St Domingue\, Nantes\, 44200\, France
CATEGORIES:Vente de plantes
ATTACH;FMTTYPE=image/jpeg:http://bio-t-full.org/wp-content/uploads/2023/06/Vente-de-plantes-bio-t-full-au-solilab.jpg
END:VEVENT
BEGIN:VEVENT
DTSTART;TZID=Europe/Paris:20230803T160000
DTEND;TZID=Europe/Paris:20230803T190000
DTSTAMP:20260422T041014
CREATED:20230605T100929Z
LAST-MODIFIED:20230605T100929Z
UID:6949-1691078400-1691089200@bio-t-full.org
SUMMARY:Permanence jardin Prairie d'Amont
DESCRIPTION:JE M'INSCRIS !
URL:http://bio-t-full.org/evenements/permanence-jardin-prairie-damont-31/
LOCATION:Cours de la Prairie d’Amont\, Cours de la Prairie d'Amont\, Nantes\, 44200\, France
CATEGORIES:Tous les événements
ATTACH;FMTTYPE=image/png:http://bio-t-full.org/wp-content/uploads/2023/04/Capture-décran-2023-04-24-à-12.52.46.png
END:VEVENT
BEGIN:VEVENT
DTSTART;TZID=Europe/Paris:20230803T180000
DTEND;TZID=Europe/Paris:20230803T235900
DTSTAMP:20260422T041014
CREATED:20230704T091507Z
LAST-MODIFIED:20230704T093522Z
UID:7058-1691085600-1691107140@bio-t-full.org
SUMMARY:PepiBAR : guinguette associative
DESCRIPTION:JE M'INSCRIS !
URL:http://bio-t-full.org/evenements/pepibar-guinguette-associative-3/
LOCATION:Solilab\, 8 Rue St Domingue\, Nantes\, 44200\, France
CATEGORIES:Tous les événements
ATTACH;FMTTYPE=image/png:http://bio-t-full.org/wp-content/uploads/2023/07/pep-23.png
END:VEVENT
BEGIN:VEVENT
DTSTART;TZID=Europe/Paris:20230808T160000
DTEND;TZID=Europe/Paris:20230808T190000
DTSTAMP:20260422T041014
CREATED:20230605T095213Z
LAST-MODIFIED:20230605T095213Z
UID:6935-1691510400-1691521200@bio-t-full.org
SUMMARY:MARCHE PAYSAN : STAND DE PLANTS
DESCRIPTION:JE M'INSCRIS !
URL:http://bio-t-full.org/evenements/marche-paysan-stand-de-plants-10/
LOCATION:Solilab\, 8 Rue St Domingue\, Nantes\, 44200\, France
CATEGORIES:Vente de plantes
ATTACH;FMTTYPE=image/jpeg:http://bio-t-full.org/wp-content/uploads/2023/06/Vente-de-plantes-bio-t-full-au-solilab.jpg
END:VEVENT
BEGIN:VEVENT
DTSTART;TZID=Europe/Paris:20230810T160000
DTEND;TZID=Europe/Paris:20230810T190000
DTSTAMP:20260422T041014
CREATED:20230605T101020Z
LAST-MODIFIED:20230605T101021Z
UID:6950-1691683200-1691694000@bio-t-full.org
SUMMARY:Permanence jardin Prairie d'Amont
DESCRIPTION:JE M'INSCRIS !
URL:http://bio-t-full.org/evenements/permanence-jardin-prairie-damont-32/
LOCATION:Cours de la Prairie d’Amont\, Cours de la Prairie d'Amont\, Nantes\, 44200\, France
CATEGORIES:Tous les événements
ATTACH;FMTTYPE=image/png:http://bio-t-full.org/wp-content/uploads/2023/04/Capture-décran-2023-04-24-à-12.52.46.png
END:VEVENT
BEGIN:VEVENT
DTSTART;TZID=Europe/Paris:20230817T180000
DTEND;TZID=Europe/Paris:20230817T235900
DTSTAMP:20260422T041014
CREATED:20230704T093706Z
LAST-MODIFIED:20230704T093900Z
UID:7063-1692295200-1692316740@bio-t-full.org
SUMMARY:PepiBAR : guinguette associative
DESCRIPTION:JE M'INSCRIS !
URL:http://bio-t-full.org/evenements/pepibar-guinguette-associative-5/
LOCATION:Solilab\, 8 Rue St Domingue\, Nantes\, 44200\, France
CATEGORIES:Tous les événements
ATTACH;FMTTYPE=image/png:http://bio-t-full.org/wp-content/uploads/2023/07/pep-23.png
END:VEVENT
BEGIN:VEVENT
DTSTART;TZID=Europe/Paris:20230831T180000
DTEND;TZID=Europe/Paris:20230831T235900
DTSTAMP:20260422T041014
CREATED:20230704T093338Z
LAST-MODIFIED:20230830T082924Z
UID:7061-1693504800-1693526340@bio-t-full.org
SUMMARY:PepiBAR : guinguette associative
DESCRIPTION:JE M'INSCRIS !
URL:http://bio-t-full.org/evenements/pepibar-guinguette-associative-4/
LOCATION:Solilab\, 8 Rue St Domingue\, Nantes\, 44200\, France
CATEGORIES:Tous les événements
ATTACH;FMTTYPE=image/png:http://bio-t-full.org/wp-content/uploads/2023/07/pep-23.png
END:VEVENT
END:VCALENDAR