BEGIN:VCALENDAR
VERSION:2.0
PRODID:-//Bio-T-Full - ECPv6.3.3.1//NONSGML v1.0//EN
CALSCALE:GREGORIAN
METHOD:PUBLISH
X-WR-CALNAME:Bio-T-Full
X-ORIGINAL-URL:http://bio-t-full.org
X-WR-CALDESC:évènements pour Bio-T-Full
REFRESH-INTERVAL;VALUE=DURATION:PT1H
X-Robots-Tag:noindex
X-PUBLISHED-TTL:PT1H
BEGIN:VTIMEZONE
TZID:Europe/Paris
BEGIN:DAYLIGHT
TZOFFSETFROM:+0100
TZOFFSETTO:+0200
TZNAME:CEST
DTSTART:20260329T010000
END:DAYLIGHT
BEGIN:STANDARD
TZOFFSETFROM:+0200
TZOFFSETTO:+0100
TZNAME:CET
DTSTART:20261025T010000
END:STANDARD
END:VTIMEZONE
BEGIN:VEVENT
DTSTART;TZID=Europe/Paris:20260205T080000
DTEND;TZID=Europe/Paris:20260205T170000
DTSTAMP:20260419T211059
CREATED:20260205T142258Z
LAST-MODIFIED:20260205T142400Z
UID:9851-1770278400-1770310800@bio-t-full.org
SUMMARY:Initiez-vous à l'agriculture urbaine !
DESCRIPTION:JE M'INSCRIS !
URL:http://bio-t-full.org/evenements/initiez-vous-a-lagriculture-urbaine/
END:VEVENT
END:VCALENDAR