BEGIN:VCALENDAR
VERSION:2.0
PRODID:-//Bio-T-Full - ECPv6.3.3.1//NONSGML v1.0//EN
CALSCALE:GREGORIAN
METHOD:PUBLISH
X-ORIGINAL-URL:http://bio-t-full.org
X-WR-CALDESC:évènements pour Bio-T-Full
REFRESH-INTERVAL;VALUE=DURATION:PT1H
X-Robots-Tag:noindex
X-PUBLISHED-TTL:PT1H
BEGIN:VTIMEZONE
TZID:Europe/Paris
BEGIN:DAYLIGHT
TZOFFSETFROM:+0100
TZOFFSETTO:+0200
TZNAME:CEST
DTSTART:20250330T010000
END:DAYLIGHT
BEGIN:STANDARD
TZOFFSETFROM:+0200
TZOFFSETTO:+0100
TZNAME:CET
DTSTART:20251026T010000
END:STANDARD
END:VTIMEZONE
BEGIN:VEVENT
DTSTART;TZID=Europe/Paris:20250417T160000
DTEND;TZID=Europe/Paris:20250417T180000
DTSTAMP:20260420T150907
CREATED:20250408T091239Z
LAST-MODIFIED:20250408T091619Z
UID:9703-1744905600-1744912800@bio-t-full.org
SUMMARY:Jardinons à Prairie d'Amont !
DESCRIPTION:JE M'INSCRIS !
URL:http://bio-t-full.org/evenements/jardinons-a-prairie-damont-32/
LOCATION:Cours de la Prairie d’Amont\, Cours de la Prairie d'Amont\, Nantes\, 44200\, France
CATEGORIES:Tous les événements
ATTACH;FMTTYPE=image/png:http://bio-t-full.org/wp-content/uploads/2024/03/FB-Evenement-Newsletter-9-1.png
END:VEVENT
END:VCALENDAR