BEGIN:VCALENDAR
VERSION:2.0
PRODID:-//Bio-T-Full - ECPv6.3.3.1//NONSGML v1.0//EN
CALSCALE:GREGORIAN
METHOD:PUBLISH
X-ORIGINAL-URL:http://bio-t-full.org
X-WR-CALDESC:évènements pour Bio-T-Full
REFRESH-INTERVAL;VALUE=DURATION:PT1H
X-Robots-Tag:noindex
X-PUBLISHED-TTL:PT1H
BEGIN:VTIMEZONE
TZID:Europe/Paris
BEGIN:DAYLIGHT
TZOFFSETFROM:+0100
TZOFFSETTO:+0200
TZNAME:CEST
DTSTART:20250330T010000
END:DAYLIGHT
BEGIN:STANDARD
TZOFFSETFROM:+0200
TZOFFSETTO:+0100
TZNAME:CET
DTSTART:20251026T010000
END:STANDARD
END:VTIMEZONE
BEGIN:VEVENT
DTSTART;TZID=Europe/Paris:20250104T093000
DTEND;TZID=Europe/Paris:20250104T160000
DTSTAMP:20260420T202408
CREATED:20241219T234707Z
LAST-MODIFIED:20241220T000725Z
UID:9675-1735983000-1736006400@bio-t-full.org
SUMMARY:Journée découverte et initiation à l'agriculture urbaine
DESCRIPTION:JE M'INSCRIS !
URL:http://bio-t-full.org/evenements/journee-dinitiation-et-decouverte-du-metier-dagriculteur-urbain/
LOCATION:Le Solilab – Salle 93\, 8 rue Saint Domingue\, Nantes\, 44200
CATEGORIES:Initiation / formation WeCanDoo
ATTACH;FMTTYPE=image/jpeg:http://bio-t-full.org/wp-content/uploads/2024/12/aquap_min_pepilab-bandeau-min.jpeg
END:VEVENT
END:VCALENDAR