BEGIN:VCALENDAR
VERSION:2.0
PRODID:-//Bio-T-Full - ECPv6.3.3.1//NONSGML v1.0//EN
CALSCALE:GREGORIAN
METHOD:PUBLISH
X-ORIGINAL-URL:http://bio-t-full.org
X-WR-CALDESC:évènements pour Bio-T-Full
REFRESH-INTERVAL;VALUE=DURATION:PT1H
X-Robots-Tag:noindex
X-PUBLISHED-TTL:PT1H
BEGIN:VTIMEZONE
TZID:Europe/Paris
BEGIN:DAYLIGHT
TZOFFSETFROM:+0100
TZOFFSETTO:+0200
TZNAME:CEST
DTSTART:20240331T010000
END:DAYLIGHT
BEGIN:STANDARD
TZOFFSETFROM:+0200
TZOFFSETTO:+0100
TZNAME:CET
DTSTART:20241027T010000
END:STANDARD
END:VTIMEZONE
BEGIN:VEVENT
DTSTART;TZID=Europe/Paris:20240918T150000
DTEND;TZID=Europe/Paris:20240918T170000
DTSTAMP:20260421T055253
CREATED:20240703T184144Z
LAST-MODIFIED:20240703T184144Z
UID:9468-1726671600-1726678800@bio-t-full.org
SUMMARY:Créons le potager de la médiathèque !
DESCRIPTION:JE M'INSCRIS !
URL:http://bio-t-full.org/evenements/creons-le-potager-de-la-mediatheque-12/
LOCATION:Médiathèque Luce Courville (Nantes Nord)\, 1 Rue Eugène Thomas\, 44300 Nantes\, Nantes\, 44000\, France
CATEGORIES:Tous les événements
ATTACH;FMTTYPE=image/png:http://bio-t-full.org/wp-content/uploads/2024/03/FB-Evenement-Newsletter-11-min.png
END:VEVENT
END:VCALENDAR