BEGIN:VCALENDAR
VERSION:2.0
PRODID:-//Bio-T-Full - ECPv6.3.3.1//NONSGML v1.0//EN
CALSCALE:GREGORIAN
METHOD:PUBLISH
X-WR-CALNAME:Bio-T-Full
X-ORIGINAL-URL:http://bio-t-full.org
X-WR-CALDESC:évènements pour Bio-T-Full
REFRESH-INTERVAL;VALUE=DURATION:PT1H
X-Robots-Tag:noindex
X-PUBLISHED-TTL:PT1H
BEGIN:VTIMEZONE
TZID:Europe/Paris
BEGIN:DAYLIGHT
TZOFFSETFROM:+0100
TZOFFSETTO:+0200
TZNAME:CEST
DTSTART:20230326T010000
END:DAYLIGHT
BEGIN:STANDARD
TZOFFSETFROM:+0200
TZOFFSETTO:+0100
TZNAME:CET
DTSTART:20231029T010000
END:STANDARD
END:VTIMEZONE
BEGIN:VEVENT
DTSTART;TZID=Europe/Paris:20231118T140000
DTEND;TZID=Europe/Paris:20231118T153000
DTSTAMP:20260421T230559
CREATED:20231115T162518Z
LAST-MODIFIED:20231115T162518Z
UID:7180-1700316000-1700321400@bio-t-full.org
SUMMARY:Permanence Jardinage - Prairie d'Amont
DESCRIPTION:JE M'INSCRIS !
URL:http://bio-t-full.org/evenements/permanence-jardinage-prairie-damont/
LOCATION:Cours de la Prairie d’Amont\, Cours de la Prairie d'Amont\, Nantes\, 44200\, France
CATEGORIES:Chantiers bénévoles,Tous les événements
END:VEVENT
END:VCALENDAR