BEGIN:VCALENDAR
VERSION:2.0
PRODID:-//Bio-T-Full - ECPv6.3.3.1//NONSGML v1.0//EN
CALSCALE:GREGORIAN
METHOD:PUBLISH
X-WR-CALNAME:Bio-T-Full
X-ORIGINAL-URL:http://bio-t-full.org
X-WR-CALDESC:évènements pour Bio-T-Full
REFRESH-INTERVAL;VALUE=DURATION:PT1H
X-Robots-Tag:noindex
X-PUBLISHED-TTL:PT1H
BEGIN:VTIMEZONE
TZID:Europe/Paris
BEGIN:DAYLIGHT
TZOFFSETFROM:+0100
TZOFFSETTO:+0200
TZNAME:CEST
DTSTART:20230326T010000
END:DAYLIGHT
BEGIN:STANDARD
TZOFFSETFROM:+0200
TZOFFSETTO:+0100
TZNAME:CET
DTSTART:20231029T010000
END:STANDARD
END:VTIMEZONE
BEGIN:VEVENT
DTSTART;TZID=Europe/Paris:20230909T100000
DTEND;TZID=Europe/Paris:20230910T173000
DTSTAMP:20260422T023259
CREATED:20230828T150011Z
LAST-MODIFIED:20230905T184234Z
UID:7068-1694253600-1694367000@bio-t-full.org
SUMMARY:RDV A LA FOLIE DES PLANTES 2023
DESCRIPTION:JE M'INSCRIS !
URL:http://bio-t-full.org/evenements/rdv-a-la-folie-des-plantes-2023/
LOCATION:Grand Blottereau\, Boulevard Auguste Peneau\, Nantes\, France
CATEGORIES:Vente de plantes
ATTACH;FMTTYPE=application/pdf:http://bio-t-full.org/wp-content/uploads/2023/08/2023_AFFICHE_Folie_des_Plantes.pdf
END:VEVENT
END:VCALENDAR